BEGIN:VCALENDAR
VERSION:2.0
PRODID:-//ChamberMaster//Event Calendar 2.0//EN
METHOD:PUBLISH
X-PUBLISHED-TTL:P3D
REFRESH-INTERVAL:P3D
CALSCALE:GREGORIAN
BEGIN:VEVENT
DTSTART:20190302T010000Z
DTEND:20190302T020000Z
X-MICROSOFT-CDO-ALLDAYEVENT:FALSE
SUMMARY:DWU concert\, "Our Lenten Journey'
DESCRIPTION:DWU Highlanders and Wesleyan Bells will perform a free concert at 7 p.m.\, Friday\, March 1\, at the Sherman Center on campus.There will be Renaissance motets\, early American shape-note hymnody\, classic hymns\, spirituals and folk songs\, all within the Lenten theme.
X-ALT-DESC;FMTTYPE=text/html:DWU Highlanders and Wesleyan Bells will perform a free concert at 7 p.m.\, Friday\, March 1\, at the Sherman Center on campus.<span style="font-family:times new roman\,serif"><span style="font-size:12.0pt">There will be Renaissance motets\, early American shape-note hymnody\, classic hymns\, spirituals and folk songs\, all within the Lenten theme.</span></span>
LOCATION:Sherman Center\, DWU
UID:e.1624.23491
SEQUENCE:3
DTSTAMP:20260424T155307Z
URL:https://business.mitchellchamber.com/events/details/dwu-concert-our-lenten-journey-23491
END:VEVENT

END:VCALENDAR
