BEGIN:VCALENDAR
VERSION:2.0
PRODID:-//ChamberMaster//Event Calendar 2.0//EN
METHOD:PUBLISH
X-PUBLISHED-TTL:P3D
REFRESH-INTERVAL:P3D
CALSCALE:GREGORIAN
BEGIN:VEVENT
DTSTART:20170927T013000Z
DTEND:20170927T020000Z
X-MICROSOFT-CDO-ALLDAYEVENT:FALSE
SUMMARY:DWU Burning of the "W"
DESCRIPTION:The DWU homecoming burning of the "W" will take place on the north lawn in front of the Christen Athletic Center.
X-ALT-DESC;FMTTYPE=text/html:The DWU homecoming burning of the &quot\;W&quot\; will take place on the north lawn in front of the Christen Athletic Center.
LOCATION:
UID:e.1624.9093
SEQUENCE:3
DTSTAMP:20260426T033250Z
URL:https://business.mitchellchamber.com/events/details/dwu-burning-of-the-w-9093
END:VEVENT

END:VCALENDAR
