BEGIN:VCALENDAR
VERSION:2.0
PRODID:-//ChamberMaster//Event Calendar 2.0//EN
METHOD:PUBLISH
X-PUBLISHED-TTL:P3D
REFRESH-INTERVAL:P3D
CALSCALE:GREGORIAN
BEGIN:VEVENT
DTSTART;VALUE=DATE:20240223
DTEND;VALUE=DATE:20240226
TRANSP:TRANSPARENT
X-MICROSOFT-CDO-ALLDAYEVENT:TRUE
SUMMARY:DWU Annual Indoor Futsal Winter Classic
DESCRIPTION:U10 through U19\n\nSeparate Divisions\, 10 players per roster\, 3 games guaranteed\, 36 minute games
X-ALT-DESC;FMTTYPE=text/html:U10 through U19<br />\nSeparate Divisions\, 10 players per roster\, 3 games guaranteed\, 36 minute games&nbsp\;
LOCATION:DWU/Avera Sports and Wellness Complex 407 W. Norway Ave. Mitchell\, SD 57301
UID:e.1624.35839
SEQUENCE:3
DTSTAMP:20260420T161206Z
URL:https://business.mitchellchamber.com/events/details/dwu-annual-indoor-futsal-winter-classic-35839
END:VEVENT

END:VCALENDAR
