BEGIN:VCALENDAR
VERSION:2.0
PRODID:-//ChamberMaster//Event Calendar 2.0//EN
METHOD:PUBLISH
X-PUBLISHED-TTL:P3D
REFRESH-INTERVAL:P3D
CALSCALE:GREGORIAN
BEGIN:VEVENT
DTSTART:20240716T150000Z
DTEND:20240716T160000Z
X-MICROSOFT-CDO-ALLDAYEVENT:FALSE
SUMMARY:Duke Otherwise\, Children's Musician & Entertainer
DESCRIPTION:Bring the family to hear Duke Otherwise\, children's musician and entertainer from Madison\, Wisconsin\, on Tues. July 16 at 10am at the Corn Palace Plaza. Everyone is welcome! (This event is sponsored by Mitchell Public Library's Summer Reading Program.)
X-ALT-DESC;FMTTYPE=text/html:Bring the family to hear Duke Otherwise\, children&#39\;s musician and entertainer from Madison\, Wisconsin\, on Tues. July 16 at 10am at the Corn Palace Plaza. Everyone is welcome! (This event is sponsored by Mitchell Public Library&#39\;s Summer Reading Program.)
LOCATION:Corn Palace Plaza
UID:e.1624.36665
SEQUENCE:3
DTSTAMP:20260420T084147Z
URL:https://business.mitchellchamber.com/events/details/duke-otherwise-children-s-musician-entertainer-36665
END:VEVENT

END:VCALENDAR
