BEGIN:VCALENDAR
VERSION:2.0
PRODID:-//ChamberMaster//Event Calendar 2.0//EN
METHOD:PUBLISH
X-PUBLISHED-TTL:P3D
REFRESH-INTERVAL:P3D
CALSCALE:GREGORIAN
BEGIN:VEVENT
DTSTART:20220312T020000Z
DTEND:20220312T050000Z
X-MICROSOFT-CDO-ALLDAYEVENT:FALSE
SUMMARY:Dueling Duo Pianos
DESCRIPTION:Fantastic night ahead!!! $25 a ticket\, only 80 tickets available. Text our ticket line 605-215-1768 today!!
X-ALT-DESC;FMTTYPE=text/html:Fantastic night ahead!!! $25 a ticket\, only 80 tickets available. Text our ticket line 605-215-1768 today!!
LOCATION:The Back 40 511 N. Main St. Mitchell\, South Dakota
UID:e.1624.32148
SEQUENCE:3
DTSTAMP:20260422T001056Z
URL:https://business.mitchellchamber.com/events/details/dueling-duo-pianos-32148
END:VEVENT

END:VCALENDAR
