BEGIN:VCALENDAR
VERSION:2.0
PRODID:-//ChamberMaster//Event Calendar 2.0//EN
METHOD:PUBLISH
X-PUBLISHED-TTL:P3D
REFRESH-INTERVAL:P3D
CALSCALE:GREGORIAN
BEGIN:VEVENT
DTSTART:20150806T220000Z
DTEND:20150807T000000Z
X-MICROSOFT-CDO-ALLDAYEVENT:FALSE
SUMMARY:Downtown Thursdays
DESCRIPTION:Come one\, come all! Everyone is invited to experience a brand new event in downtown Mitchell! Mitchell Main Street & Beyond will be hosting a summer concert series every Thursday throughout the summer! Downtown Thursdays will kick off on June 4 and will continue every Thursday through Aug. 20. Live music will be performing on the new Corn Palace balcony. Lots of family activities will be available\, including: face painting\, sidewalk chalking\, lego building\, coloring contests\, bean bag toss\, giant Jenga\, balloon tying\, bubble blowing\, bike and pet parades\, Cornelius appearances\, and various other activities! Cornerstone Too will be selling their famous hand-dipped ice cream\, fruit smoothies\, blended coffee drinks. Wine and/or beer will be available for purchase at the Scoreboard Pub & Grille. Big Daddy's BBQ Catering food truck will be onsite every Thursday for you to purchase an array of delicious food!  Please bring your friends and family to Downtown Thursdays in support and enjoyment of this brand new\, exciting\, weekly event!\n\nHere is the future entertainment lineup:\n\n\n\nJune 18 Sid Stemper\n\nJune 25 Weston Frank Live\n\nJuly 2 Billy Lurken\n\nJuly 9 Clayton Mick
X-ALT-DESC;FMTTYPE=text/html:Come one\, come all! Everyone is invited to experience a brand new event in downtown Mitchell! Mitchell Main Street &amp\; Beyond will be hosting a summer concert series every Thursday throughout the summer! Downtown Thursdays will kick off on June 4 and will continue every Thursday through Aug. 20. Live music will be performing on the new Corn Palace balcony. Lots of family activities will be available\, including: face painting\, sidewalk chalking\, lego building\,&nbsp\;coloring contests\, bean bag toss\, giant Jenga\, balloon tying\, bubble blowing\, bike and pet parades\, Cornelius appearances\, and various other activities! Cornerstone Too will be selling their famous hand-dipped ice cream\, fruit smoothies\, blended coffee drinks. Wine and/or beer will be available for purchase at the Scoreboard Pub &amp\; Grille. Big Daddy&#39\;s BBQ Catering food truck will be onsite every Thursday for you to purchase an array of delicious food!&nbsp\; Please bring your friends and family to Downtown Thursdays in support and enjoyment of this brand new\, exciting\, weekly event!<br />\nHere is the future entertainment lineup:<br />\n<br />\nJune 18 Sid Stemper<br />\nJune 25 Weston Frank Live<br />\nJuly 2 Billy Lurken<br />\nJuly 9 Clayton Mick
LOCATION:Downtown Mitchell Main Street between 6th & 7th Streets
UID:e.1624.1942
SEQUENCE:3
DTSTAMP:20260421T172754Z
URL:https://business.mitchellchamber.com/events/details/downtown-thursdays-08-06-2015-1942
END:VEVENT

END:VCALENDAR
