BEGIN:VCALENDAR
VERSION:2.0
PRODID:-//ChamberMaster//Event Calendar 2.0//EN
METHOD:PUBLISH
X-PUBLISHED-TTL:P3D
REFRESH-INTERVAL:P3D
CALSCALE:GREGORIAN
BEGIN:VEVENT
DTSTART:20180224T180000Z
DTEND:20180224T220000Z
X-MICROSOFT-CDO-ALLDAYEVENT:FALSE
SUMMARY:Dodge for a Cause
DESCRIPTION:Dodgeball tournament for charity. Teams of 6. $120 per team. 50% of profits go to Helping Heart Heroes. 50% of profits go to the winners choice.
X-ALT-DESC;FMTTYPE=text/html:<span class="_4n-j _3cht fsl" data-testid="event-permalink-details">Dodgeball tournament for charity. Teams of 6. $120 per team. 50% of profits go to Helping Heart Heroes. 50% of profits go to the winners choice.</span>
LOCATION:Mitchell Recreation Center 1300 N Main St
UID:e.1624.11494
SEQUENCE:3
DTSTAMP:20260425T185457Z
URL:https://business.mitchellchamber.com/events/details/dodge-for-a-cause-11494
END:VEVENT

END:VCALENDAR
