BEGIN:VCALENDAR
VERSION:2.0
PRODID:-//ChamberMaster//Event Calendar 2.0//EN
METHOD:PUBLISH
X-PUBLISHED-TTL:P3D
REFRESH-INTERVAL:P3D
CALSCALE:GREGORIAN
BEGIN:VEVENT
DTSTART:20240309T170000Z
DTEND:20240309T190000Z
X-MICROSOFT-CDO-ALLDAYEVENT:FALSE
SUMMARY:DIY Donuts & Doormats Workshop 16+ years
DESCRIPTION:Looking for a fun way to spruce up your front porch? Join us for our DIY doormat workshop! Select a design from our gallery. We provide all the materials and instruct you step-by-step to create a beautiful piece for your home or for a gift. Choose from a variety of paint colors in the workshop. Pre-registration is required.
X-ALT-DESC;FMTTYPE=text/html:<span style="color:rgb(74\, 74\, 74)\; font-family:droid_sansregular\,sans-serif\; font-size:16px">Looking for a fun way to spruce up your front porch? Join us for our DIY doormat workshop! Select a design from our gallery. We provide all the materials and instruct you step-by-step to create a beautiful piece for your home or for a gift. Choose from a variety of paint colors in the workshop. Pre-registration is required.</span>
LOCATION:Board & Brush Mitchell 405 N Main Street
UID:e.1624.36142
SEQUENCE:3
DTSTAMP:20260420T104833Z
URL:https://business.mitchellchamber.com/events/details/diy-donuts-doormats-workshop-16-years-36142
END:VEVENT

END:VCALENDAR
