BEGIN:VCALENDAR
VERSION:2.0
PRODID:-//ChamberMaster//Event Calendar 2.0//EN
METHOD:PUBLISH
X-PUBLISHED-TTL:P3D
REFRESH-INTERVAL:P3D
CALSCALE:GREGORIAN
BEGIN:VEVENT
DTSTART:20221012T003000Z
DTEND:20221012T020000Z
X-MICROSOFT-CDO-ALLDAYEVENT:FALSE
SUMMARY:Decades of Love with Ernie Haase & Signature Sound
DESCRIPTION:Led by Ernie Haase\, Signature Sound is one of the finest Southern Gospel quartets\, having performed across the U.S. and around the world.\n\nErnie began with the Cathedrals and has sung with the Gaither Homecoming Tour.\n\nDecades of Love highlights beloved favorites from the Gershwins to Nate King Cole\, James Taylor\, Disney and John Legend\, all in the lush 4-part harmony and classy presentation of Ernie Haase & Signature Sound.
X-ALT-DESC;FMTTYPE=text/html:Led by Ernie Haase\, Signature Sound is one of the finest Southern Gospel quartets\, having performed across the U.S. and around the world.<br />\nErnie began with the Cathedrals and has sung with the Gaither Homecoming Tour.<br />\nDecades of Love highlights beloved favorites from the Gershwins to Nate King Cole\, James Taylor\, Disney and John Legend\, all in the lush 4-part harmony and classy presentation of Ernie Haase &amp\; Signature Sound.&nbsp\;&nbsp\;&nbsp\;&nbsp\;
LOCATION:Performing Arts Center 821 North Capital Mitchell
UID:e.1624.32866
SEQUENCE:3
DTSTAMP:20260421T170716Z
URL:https://business.mitchellchamber.com/events/details/decades-of-love-with-ernie-haase-signature-sound-32866
END:VEVENT

END:VCALENDAR
