BEGIN:VCALENDAR
VERSION:2.0
PRODID:-//ChamberMaster//Event Calendar 2.0//EN
METHOD:PUBLISH
X-PUBLISHED-TTL:P3D
REFRESH-INTERVAL:P3D
CALSCALE:GREGORIAN
BEGIN:VEVENT
DTSTART:20180719T143000Z
DTEND:20180719T200000Z
X-MICROSOFT-CDO-ALLDAYEVENT:FALSE
SUMMARY:Day Camp
DESCRIPTION:Learn about Cooperatives\, Where your food comes from\, Play Games and complete Crafts. LUNCH & SNACKS provided. Free T-shirts for all that attend.
X-ALT-DESC;FMTTYPE=text/html:Learn about Cooperatives\, Where your food comes from\, Play Games and complete Crafts. LUNCH &amp\; SNACKS provided. Free T-shirts for all that attend.
LOCATION:Central Electric Building 25487 403rd Ave Mitchell\, SD\, 57301
UID:e.1624.17030
SEQUENCE:3
DTSTAMP:20260425T110246Z
URL:https://business.mitchellchamber.com/events/details/day-camp-17030
END:VEVENT

END:VCALENDAR
