BEGIN:VCALENDAR
VERSION:2.0
PRODID:-//ChamberMaster//Event Calendar 2.0//EN
METHOD:PUBLISH
X-PUBLISHED-TTL:P3D
REFRESH-INTERVAL:P3D
CALSCALE:GREGORIAN
BEGIN:VEVENT
DTSTART:20231105T203000Z
DTEND:20231105T230000Z
X-MICROSOFT-CDO-ALLDAYEVENT:FALSE
SUMMARY:DANCE @ JVCC
DESCRIPTION:JVCC Dance - Sunday\, Nov. 5 with Roy King & The Rusty Buckets @ 3-5 PM\; Doors Open at 2:30 PM\; JVCC Members: $8.00 Guests: $10 - Includes Refreshments & Door Prizes - All Ages Welcome! JVCC\, 300 West 1st Ave
X-ALT-DESC;FMTTYPE=text/html:JVCC Dance - Sunday\, Nov. 5 with Roy King &amp\; The Rusty Buckets @ 3-5 PM\; Doors Open at 2:30 PM\; JVCC Members: $8.00 Guests: $10 - Includes Refreshments &amp\; Door Prizes - All Ages Welcome! JVCC\, 300 West 1st Ave
LOCATION:James Valley Community Center 300 W 1st Ave\, Mitchell
UID:e.1624.34634
SEQUENCE:3
DTSTAMP:20260420T213345Z
URL:https://business.mitchellchamber.com/events/details/dance-jvcc-11-05-2023-34634
END:VEVENT

END:VCALENDAR
