BEGIN:VCALENDAR
VERSION:2.0
PRODID:-//ChamberMaster//Event Calendar 2.0//EN
METHOD:PUBLISH
X-PUBLISHED-TTL:P3D
REFRESH-INTERVAL:P3D
CALSCALE:GREGORIAN
BEGIN:VEVENT
DTSTART:20220621T180000Z
DTEND:20220621T203000Z
X-MICROSOFT-CDO-ALLDAYEVENT:FALSE
SUMMARY:Dakota Wesleyan Basketball Individual Camps
DESCRIPTION:DWU Basketball Individual Camps are open to girls in grades Kindergarten through sixth grade.
X-ALT-DESC;FMTTYPE=text/html:DWU Basketball Individual Camps are open to girls in grades Kindergarten through sixth grade.
LOCATION:DWU/Avera Sports & Wellness Complex 500 W. Norway Ave. Mitchell\, South Dakota
UID:e.1624.32564
SEQUENCE:3
DTSTAMP:20260421T235333Z
URL:https://business.mitchellchamber.com/events/details/dakota-wesleyan-basketball-individual-camps-32564
END:VEVENT

END:VCALENDAR
