BEGIN:VCALENDAR
VERSION:2.0
PRODID:-//ChamberMaster//Event Calendar 2.0//EN
METHOD:PUBLISH
X-PUBLISHED-TTL:P3D
REFRESH-INTERVAL:P3D
CALSCALE:GREGORIAN
BEGIN:VEVENT
DTSTART:20171219T150000Z
DTEND:20171220T213000Z
X-MICROSOFT-CDO-ALLDAYEVENT:FALSE
SUMMARY:Dakota Sales & Rental LLC Open House
DESCRIPTION:End of the 5th year customer appreciation days open house
X-ALT-DESC;FMTTYPE=text/html:End of the 5th year customer appreciation days open house
LOCATION:420 North Industrial Corsica SD 57328
UID:e.1624.9192
SEQUENCE:3
DTSTAMP:20260425T221257Z
URL:https://business.mitchellchamber.com/events/details/dakota-sales-rental-llc-open-house-9192
END:VEVENT

END:VCALENDAR
