BEGIN:VCALENDAR
VERSION:2.0
PRODID:-//ChamberMaster//Event Calendar 2.0//EN
METHOD:PUBLISH
X-PUBLISHED-TTL:P3D
REFRESH-INTERVAL:P3D
CALSCALE:GREGORIAN
BEGIN:VEVENT
DTSTART:20180614T220000Z
DTEND:20180615T000000Z
X-MICROSOFT-CDO-ALLDAYEVENT:FALSE
SUMMARY:Dads and (Hot) Dogs!
DESCRIPTION:Get an early start to celebrate Father's Day weekend! Edgewood will serve hot dogs and a picnic meal and enjoy a little game of catch for one of our favorite summer time sports -- baseball!
X-ALT-DESC;FMTTYPE=text/html:Get an early start to celebrate Father&#39\;s Day weekend! Edgewood will serve hot dogs and a picnic meal and enjoy a little game of catch for one of our favorite summer time sports -- baseball!
LOCATION:Edgewood Assisted Living 501 E Spruce Street Mitchell SD
UID:e.1624.15646
SEQUENCE:3
DTSTAMP:20260425T124314Z
URL:https://business.mitchellchamber.com/events/details/dads-and-hot-dogs-15646
END:VEVENT

END:VCALENDAR
