BEGIN:VCALENDAR
VERSION:2.0
PRODID:-//ChamberMaster//Event Calendar 2.0//EN
METHOD:PUBLISH
X-PUBLISHED-TTL:P3D
REFRESH-INTERVAL:P3D
CALSCALE:GREGORIAN
BEGIN:VEVENT
DTSTART;VALUE=DATE:20220618
DTEND;VALUE=DATE:20220619
TRANSP:TRANSPARENT
X-MICROSOFT-CDO-ALLDAYEVENT:TRUE
SUMMARY:Customer Appreciation Day
DESCRIPTION:June is Dairy Month and we are taking the opportunity to THANK OUR CUSTOMERS because without you\, we wouldn't be here! So join us for Customer Appreciation Day and enjoy inflatables\, free ice cream samples\, free single serve milk\, 10% OFF all products\, mini-golf\, petting zoo\, tractor tire playground\, and so much more! Get a free Holstein hat for the kiddos. The Food Truck will be open! It's going to be a fun day and we will keep adding details. For now\, SAVE THE DATE and include us in your summer plans!
X-ALT-DESC;FMTTYPE=text/html:June is Dairy Month and we are taking the opportunity to THANK OUR CUSTOMERS because without you\, we wouldn&#39\;t be here! So join us for Customer Appreciation Day and enjoy inflatables\, free ice cream samples\, free single serve milk\, 10% OFF all products\, mini-golf\, petting zoo\, tractor tire playground\, and so much more! Get a free Holstein hat for the kiddos. The Food Truck will be open! It&#39\;s going to be a fun day and we will keep adding details. For now\, SAVE THE DATE and include us in your summer plans!
LOCATION:Farm Life Creamery 41053 265th St. Ethan\, South Dakota
UID:e.1624.32543
SEQUENCE:3
DTSTAMP:20260421T234622Z
URL:https://business.mitchellchamber.com/events/details/customer-appreciation-day-32543
END:VEVENT

END:VCALENDAR
