BEGIN:VCALENDAR
VERSION:2.0
PRODID:-//ChamberMaster//Event Calendar 2.0//EN
METHOD:PUBLISH
X-PUBLISHED-TTL:P3D
REFRESH-INTERVAL:P3D
CALSCALE:GREGORIAN
BEGIN:VEVENT
DTSTART:20181101T160000Z
DTEND:20181101T190000Z
X-MICROSOFT-CDO-ALLDAYEVENT:FALSE
SUMMARY:Customer Appreciation at Make It Mine Designs
DESCRIPTION:Join us for Customer Appreciation at Make It Mine Designs!  Come have lunch with us!  We want to celebrate with all of our amazing customers for the great projects we created for you.
X-ALT-DESC;FMTTYPE=text/html:Join us for Customer Appreciation at Make It Mine Designs!&nbsp\; Come have lunch with us!&nbsp\; We want to celebrate with all of our amazing customers for the great projects we created for you.
LOCATION:Make It Mine Design 301 S. Burr St.
UID:e.1624.19261
SEQUENCE:3
DTSTAMP:20260425T040047Z
URL:https://business.mitchellchamber.com/events/details/customer-appreciation-at-make-it-mine-designs-19261
END:VEVENT

END:VCALENDAR
