BEGIN:VCALENDAR
VERSION:2.0
PRODID:-//ChamberMaster//Event Calendar 2.0//EN
METHOD:PUBLISH
X-PUBLISHED-TTL:P3D
REFRESH-INTERVAL:P3D
CALSCALE:GREGORIAN
BEGIN:VEVENT
DTSTART:20220607T150000Z
DTEND:20220607T160000Z
X-MICROSOFT-CDO-ALLDAYEVENT:FALSE
SUMMARY:Cup of CASA
DESCRIPTION:CASA Volunteers Needed!\n\n\n\nWe are recruiting CASA Volunteers for the upcoming training session. Bring a friend or two to share your love of CASA and our mission.\n\n\n\nOur program is hosting a CASA 101. This no-strings-attached presentation allows you to learn more about advocacy for families going through a very difficult time.\n\n\n\n\n\nThe 1st Tuesday of the Month.
X-ALT-DESC;FMTTYPE=text/html:CASA Volunteers Needed!<br />\n<br />\nWe are recruiting CASA Volunteers for the upcoming training session. Bring a friend or two to share your love of CASA and our mission.<br />\n<br />\nOur program is hosting a CASA 101. This no-strings-attached presentation allows you to learn more about advocacy for families going through a very difficult time.<br />\n<br />\n<br />\nThe 1st Tuesday of the Month.
LOCATION:CASA Office 115 E. 11th Ave. Mitchell\, South Dakota
UID:e.1624.32544
SEQUENCE:3
DTSTAMP:20260421T234830Z
URL:https://business.mitchellchamber.com/events/details/cup-of-casa-32544
END:VEVENT

END:VCALENDAR
