BEGIN:VCALENDAR
VERSION:2.0
PRODID:-//ChamberMaster//Event Calendar 2.0//EN
METHOD:PUBLISH
X-PUBLISHED-TTL:P3D
REFRESH-INTERVAL:P3D
CALSCALE:GREGORIAN
BEGIN:VEVENT
DTSTART:20240719T130000Z
DTEND:20240719T220000Z
X-MICROSOFT-CDO-ALLDAYEVENT:FALSE
SUMMARY:Crazy Days
DESCRIPTION:Mitchell's Crazy DayZ Return!\n\n'Rustle up' some friends and come shop Mitchell! Discover the amazing deals and offers from our local stores! Explore Mitchell's charming Main Street & Beyond during the rodeo weekend. Whether you're a local\, a tourist\, a Cowboy\, or a Cowgirl\, you are invited to enjoy our Crazy DayZ shopping extravaganza!
X-ALT-DESC;FMTTYPE=text/html:<div>Mitchell&rsquo\;s Crazy DayZ Return!</div>\n\n<div>&#39\;Rustle up&#39\; some friends and come shop Mitchell! Discover the amazing deals and offers from our local stores! Explore Mitchell&rsquo\;s charming Main Street &amp\; Beyond during the rodeo weekend. Whether you&#39\;re a local\, a tourist\, a Cowboy\, or a Cowgirl\, you are invited to enjoy our Crazy DayZ shopping extravaganza!</div>\n
LOCATION:Mitchell's Main Street participating businesses
UID:e.1624.36631
SEQUENCE:3
DTSTAMP:20260420T082803Z
URL:https://business.mitchellchamber.com/events/details/crazy-days-36631
END:VEVENT

END:VCALENDAR
