BEGIN:VCALENDAR
VERSION:2.0
PRODID:-//ChamberMaster//Event Calendar 2.0//EN
METHOD:PUBLISH
X-PUBLISHED-TTL:P3D
REFRESH-INTERVAL:P3D
CALSCALE:GREGORIAN
BEGIN:VEVENT
DTSTART:20140701T190000Z
DTEND:20140701T193000Z
X-MICROSOFT-CDO-ALLDAYEVENT:FALSE
SUMMARY:Crazy About Cupcakes Ambassador Visit
DESCRIPTION:Join us at the 1 year Anniversary Ambassador Visit and celebration of moving to a new location for Crazy About Cupcakes!
X-ALT-DESC;FMTTYPE=text/html:Join us at the 1 year Anniversary Ambassador Visit and celebration of moving to a new location for Crazy About Cupcakes!&nbsp\;
LOCATION:417 N. Main St.\, Suite 102
UID:e.1624.1178
SEQUENCE:3
DTSTAMP:20260421T145632Z
URL:https://business.mitchellchamber.com/events/details/crazy-about-cupcakes-ambassador-visit-07-01-2014-1178
END:VEVENT

END:VCALENDAR
