BEGIN:VCALENDAR
VERSION:2.0
PRODID:-//ChamberMaster//Event Calendar 2.0//EN
METHOD:PUBLISH
X-PUBLISHED-TTL:P3D
REFRESH-INTERVAL:P3D
CALSCALE:GREGORIAN
BEGIN:VEVENT
DTSTART:20180126T180000Z
DTEND:20180126T190000Z
X-MICROSOFT-CDO-ALLDAYEVENT:FALSE
SUMMARY:Cracker Barrel
DESCRIPTION:Cracker Barrels Scheduled in Mitchell\n\nThe Mitchell Area Chamber of Commerce Governmental Affairs Committee will hold its first Cracker Barrel session on Friday\, January 26th\, beginning at 12:00 pm.  The event will take place at the City Council Chambers\, located at 612 N. Main St.\, Mitchell. A live fee will also be broadcast.\n\nDistrict 20 legislators   Senator Joshua Klumb and Representatives Tona Rozum and Lance Carson have been invited to participate.\n\nThe event is open to the public.
X-ALT-DESC;FMTTYPE=text/html:<u><span style="font-family:arial\,sans-serif\;"><span style="font-size:9.0pt\;">Cracker Barrels Scheduled in Mitchell</span></span></u><br />\n<span style="font-family:arial\,sans-serif\;"><span style="font-size:9.0pt\;">The Mitchell Area Chamber of Commerce Governmental Affairs Committee will hold its first Cracker Barrel session on Friday\, January<span data-scayt-lang="en_US" data-scayt-word="17th"> 26th</span></span>\, beginning at 12:00 pm.&nbsp\; The event will take place at the City Council Chambers\, located at 612 N. Main St.\, Mitchell. A live fee will also be broadcast.<br />\nDistrict 20 legislators &ndash\; Senator Joshua <span data-scayt-lang="en_US" data-scayt-word="Klumb">Klumb</span></span> and Representatives <span data-scayt-lang="en_US" data-scayt-word="Tona">Tona</span> <span data-scayt-lang="en_US" data-scayt-word="Rozum">Rozum</span> and Lance Carson have been invited to participate.<br />\nThe event is open to the public.&nbsp\;<br />\n&nbsp\;
LOCATION:City of Mitchell Council Chambers 612 N. Main St.
UID:e.1624.9206
SEQUENCE:3
DTSTAMP:20260425T203724Z
URL:https://business.mitchellchamber.com/events/details/cracker-barrel-9206
END:VEVENT

END:VCALENDAR
