BEGIN:VCALENDAR
VERSION:2.0
PRODID:-//ChamberMaster//Event Calendar 2.0//EN
METHOD:PUBLISH
X-PUBLISHED-TTL:P3D
REFRESH-INTERVAL:P3D
CALSCALE:GREGORIAN
BEGIN:VEVENT
DTSTART:20181115T003000Z
DTEND:20181115T023000Z
X-MICROSOFT-CDO-ALLDAYEVENT:FALSE
SUMMARY:CPR
DESCRIPTION:CPR Certification
X-ALT-DESC;FMTTYPE=text/html:CPR Certification
LOCATION:EmBe Office 1109 North Main St. Mitchell\, SD 57301
UID:e.1624.19469
SEQUENCE:3
DTSTAMP:20260425T040028Z
URL:https://business.mitchellchamber.com/events/details/cpr-11-14-2018-19469
END:VEVENT

END:VCALENDAR
