BEGIN:VCALENDAR
VERSION:2.0
PRODID:-//ChamberMaster//Event Calendar 2.0//EN
METHOD:PUBLISH
X-PUBLISHED-TTL:P3D
REFRESH-INTERVAL:P3D
CALSCALE:GREGORIAN
BEGIN:VEVENT
DTSTART:20240221T010000Z
DTEND:20240221T020000Z
X-MICROSOFT-CDO-ALLDAYEVENT:FALSE
SUMMARY:Courageous Conversation - Open Primaries Initiative
DESCRIPTION:Join Us for Courageous Conversation - Open Primaries Initiative\n\n \n\nDate: February 20th\, 2024\n\nTime: 7:00 PM\n\nLocation: DWU School of Business\, Innovation\, and Leadership - Room 117\n\n \n\nLet Your Voice Be Heard! Should South Dakota Have Open Primaries?\n\n \n\nAre you passionate about democracy and political participation? Do you believe in fostering a system that encourages inclusivity and representation for all? Join us for an engaging evening of Courageous Conversations as we delve into the Open Primaries Initiative and explore the question: Should South Dakota have open primaries?
X-ALT-DESC;FMTTYPE=text/html:<span style="display: none\;">&nbsp\;</span>\n<div>\n<div>Join Us for Courageous Conversation - Open Primaries Initiative<br />\n&nbsp\;</div>\n\n<div>Date: February 20th\, 2024<br />\nTime: 7:00 PM<br />\nLocation: DWU School of Business\, Innovation\, and Leadership - Room 117<br />\n&nbsp\;</div>\n\n<div>Let Your Voice Be Heard! Should South Dakota Have Open Primaries?<br />\n&nbsp\;</div>\n\n<div>Are you passionate about democracy and political participation? Do you believe in fostering a system that encourages inclusivity and representation for all? Join us for an engaging evening of Courageous Conversations as we delve into the Open Primaries Initiative and explore the question: Should South Dakota have open primaries?</div>\n</div>\n<span style="display: none\;">&nbsp\;</span>
LOCATION:Dakota Wesleyan University School of Business\, Innovation\, and Leadership 1200 W University Ave Mitchell\, SD 57301
UID:e.1624.35810
SEQUENCE:3
DTSTAMP:20260420T160840Z
URL:https://business.mitchellchamber.com/events/details/courageous-conversation-open-primaries-initiative-35810
END:VEVENT

END:VCALENDAR
