BEGIN:VCALENDAR
VERSION:2.0
PRODID:-//ChamberMaster//Event Calendar 2.0//EN
METHOD:PUBLISH
X-PUBLISHED-TTL:P3D
REFRESH-INTERVAL:P3D
CALSCALE:GREGORIAN
BEGIN:VEVENT
DTSTART:20140606T210000Z
DTEND:20140606T213000Z
X-MICROSOFT-CDO-ALLDAYEVENT:FALSE
SUMMARY:Corn-Struction Kickoff
DESCRIPTION:Join us for the kickoff of the Corn Palace construction project on Friday\, June 6 at 4pm.  We will meet in the Corn Palace Courtyard\, across the street from the Corn Palace to witness the Mayor making a ceremonial first crack at the Corn Palace as construction begins.  Popcorn will be served.
X-ALT-DESC;FMTTYPE=text/html:Join us for the kickoff of the Corn Palace construction project on Friday\, June 6 at 4pm.&nbsp\; We will meet in the Corn Palace Courtyard\, across the street from the Corn Palace to witness the Mayor making a ceremonial first crack at the Corn Palace as construction begins.&nbsp\; Popcorn will be served.
LOCATION:Corn Palace Courtyard\, across from the Corn Palace at 604 N. Main St.
UID:e.1624.1173
SEQUENCE:3
DTSTAMP:20260421T170003Z
URL:https://business.mitchellchamber.com/events/details/corn-struction-kickoff-06-06-2014-1173
END:VEVENT

END:VCALENDAR
