BEGIN:VCALENDAR
VERSION:2.0
PRODID:-//ChamberMaster//Event Calendar 2.0//EN
METHOD:PUBLISH
X-PUBLISHED-TTL:P3D
REFRESH-INTERVAL:P3D
CALSCALE:GREGORIAN
BEGIN:VEVENT
DTSTART:20220716T153000Z
DTEND:20220716T170000Z
X-MICROSOFT-CDO-ALLDAYEVENT:FALSE
SUMMARY:Corn Palace Stampede Rodeo Parade
DESCRIPTION:This is the 51st Annual Corn Palace Stampede Rodeo Parade which began in 1971. The theme for this year is "The Good Ole' Days".
X-ALT-DESC;FMTTYPE=text/html:This is the 51st Annual Corn Palace Stampede Rodeo Parade which began in 1971. The theme for this year is &quot\;The Good Ole&#39\; Days&quot\;.
LOCATION:Mitchell Main Street Mitchell\, South Dakota
UID:e.1624.32527
SEQUENCE:3
DTSTAMP:20260421T220937Z
URL:https://business.mitchellchamber.com/events/details/corn-palace-stampede-rodeo-parade-32527
END:VEVENT

END:VCALENDAR
