BEGIN:VCALENDAR
VERSION:2.0
PRODID:-//ChamberMaster//Event Calendar 2.0//EN
METHOD:PUBLISH
X-PUBLISHED-TTL:P3D
REFRESH-INTERVAL:P3D
CALSCALE:GREGORIAN
BEGIN:VEVENT
DTSTART:20180721T153000Z
DTEND:20180721T180000Z
X-MICROSOFT-CDO-ALLDAYEVENT:FALSE
SUMMARY:Corn Palace Stampede Rodeo Parade
DESCRIPTION:2018 theme is "Experience the Wild Ride"
X-ALT-DESC;FMTTYPE=text/html:2018 theme is &quot\;Experience the Wild Ride&quot\;
LOCATION:Mitchell's Main Street
UID:e.1624.965
SEQUENCE:3
DTSTAMP:20260425T110711Z
URL:https://business.mitchellchamber.com/events/details/corn-palace-stampede-rodeo-parade-07-20-2013-965
END:VEVENT

END:VCALENDAR
