BEGIN:VCALENDAR
VERSION:2.0
PRODID:-//ChamberMaster//Event Calendar 2.0//EN
METHOD:PUBLISH
X-PUBLISHED-TTL:P3D
REFRESH-INTERVAL:P3D
CALSCALE:GREGORIAN
BEGIN:VEVENT
DTSTART;VALUE=DATE:20220715
DTEND;VALUE=DATE:20220716
TRANSP:TRANSPARENT
X-MICROSOFT-CDO-ALLDAYEVENT:TRUE
SUMMARY:Corn Palace Stampede Rodeo
DESCRIPTION:8:00 am:  Rodeo Slack - Rodeo Grounds\n\n\n\n8:00 pm:  1st of 3 "2022" Rodeo Performances - Rodeo Grounds     \n\n                 Mutton Bustin & Kids Candy Toss\n\n\n\n10:00 pm: Slack Barrel Racing - Following Rodeo
X-ALT-DESC;FMTTYPE=text/html:8:00 am:&nbsp\; Rodeo Slack - Rodeo Grounds<br />\n<br />\n8:00 pm:&nbsp\; 1st of 3 &quot\;2022&quot\; Rodeo Performances - Rodeo Grounds&nbsp\; &nbsp\; &nbsp\;<br />\n&nbsp\; &nbsp\; &nbsp\; &nbsp\; &nbsp\; &nbsp\; &nbsp\; &nbsp\; &nbsp\;Mutton&nbsp\;Bustin &amp\; Kids Candy Toss<br />\n<br />\n10:00 pm: Slack Barrel Racing - Following Rodeo
LOCATION:Mitchell Rodeo Grounds Mitchell\, South Dakota
UID:e.1624.32163
SEQUENCE:3
DTSTAMP:20260421T220805Z
URL:https://business.mitchellchamber.com/events/details/corn-palace-stampede-rodeo-32163
END:VEVENT

END:VCALENDAR
