BEGIN:VCALENDAR
VERSION:2.0
PRODID:-//ChamberMaster//Event Calendar 2.0//EN
METHOD:PUBLISH
X-PUBLISHED-TTL:P3D
REFRESH-INTERVAL:P3D
CALSCALE:GREGORIAN
BEGIN:VEVENT
DTSTART;VALUE=DATE:20220714
DTEND;VALUE=DATE:20220715
TRANSP:TRANSPARENT
X-MICROSOFT-CDO-ALLDAYEVENT:TRUE
SUMMARY:Corn Palace Stampede Rodeo
DESCRIPTION:8:00 am:  Rodeo Queen Contest - Rodeo Grounds\n\n\n\n8:00 pm:  Extreme Bull Riding - Rodeo Grounds     \n\n                 Queen Contest Winners\, Mutton Bustin & Kids Candy Toss
X-ALT-DESC;FMTTYPE=text/html:8:00 am:&nbsp\; Rodeo Queen Contest - Rodeo Grounds<br />\n<br />\n8:00 pm:&nbsp\; Extreme Bull Riding - Rodeo Grounds&nbsp\; &nbsp\; &nbsp\;<br />\n&nbsp\; &nbsp\; &nbsp\; &nbsp\; &nbsp\; &nbsp\; &nbsp\; &nbsp\; &nbsp\;Queen Contest Winners\, Mutton Bustin &amp\; Kids Candy Toss
LOCATION:Mitchell Rodeo Grounds Mitchell\, South Dakota
UID:e.1624.32162
SEQUENCE:3
DTSTAMP:20260421T220205Z
URL:https://business.mitchellchamber.com/events/details/corn-palace-stampede-rodeo-32162
END:VEVENT

END:VCALENDAR
