BEGIN:VCALENDAR
VERSION:2.0
PRODID:-//ChamberMaster//Event Calendar 2.0//EN
METHOD:PUBLISH
X-PUBLISHED-TTL:P3D
REFRESH-INTERVAL:P3D
CALSCALE:GREGORIAN
BEGIN:VEVENT
DTSTART:20220712T220000Z
DTEND:20220713T020000Z
X-MICROSOFT-CDO-ALLDAYEVENT:FALSE
SUMMARY:Corn Palace Stampede Rodeo
DESCRIPTION:Community Kickoff\, Sponsored by KMIT & Corn Palace Stampede Rodeo Committee. The event will include recognition of rodeo members and contributors of the rodeo's past and present\, music\, free burgers\, brats\, pop\, and beer. The event will also announce the 2022 Corn Palace Stampede Rodeo Parade Grand Marshalls. The parade theme for this year is "The Good Ole' Days".
X-ALT-DESC;FMTTYPE=text/html:Community Kickoff\, Sponsored by KMIT &amp\; Corn Palace Stampede Rodeo Committee. The event will include recognition of rodeo members and contributors of the rodeo&#39\;s past and present\, music\, free burgers\, brats\, pop\, and beer. The event will also announce the 2022 Corn Palace Stampede Rodeo Parade Grand Marshalls. The parade theme for this year is &quot\;The Good Ole&#39\; Days&quot\;.
LOCATION:Corn Palace Grandstand Area 6th & Main St. Mitchell\, South Dakota
UID:e.1624.32161
SEQUENCE:3
DTSTAMP:20260421T220233Z
URL:https://business.mitchellchamber.com/events/details/corn-palace-stampede-rodeo-32161
END:VEVENT

END:VCALENDAR
