BEGIN:VCALENDAR
VERSION:2.0
PRODID:-//ChamberMaster//Event Calendar 2.0//EN
METHOD:PUBLISH
X-PUBLISHED-TTL:P3D
REFRESH-INTERVAL:P3D
CALSCALE:GREGORIAN
BEGIN:VEVENT
DTSTART:20220414T160000Z
DTEND:20220415T000000Z
X-MICROSOFT-CDO-ALLDAYEVENT:FALSE
SUMMARY:Corn Palace Relays - Mitchell Track and Field Varsity Invitational
DESCRIPTION:Corn Palace Relays\n\n\n\nTeams include: Mt. Vernon/Plankinton Titans\, Aberdeen Central\, Burke\, Chamberlain\, Ethan\, Hanson\, Harrisburg\, Hendricks Public\, Huron\, Kimball-White Lake\, Mitchell Christian\, Parkston\, Platte-Geddes\, Sioux Falls Lincoln\, Wessington Springs\, Winner\, & Yankton
X-ALT-DESC;FMTTYPE=text/html:Corn Palace Relays<br />\n<br />\nTeams include: Mt. Vernon/Plankinton Titans\, Aberdeen Central\, Burke\, Chamberlain\, Ethan\, Hanson\, Harrisburg\, Hendricks Public\, Huron\, Kimball-White Lake\, Mitchell Christian\, Parkston\, Platte-Geddes\, Sioux Falls Lincoln\, Wessington Springs\, Winner\, &amp\; Yankton
LOCATION:Joe Quintal Field Mitchell\, South Dakota
UID:e.1624.32052
SEQUENCE:3
DTSTAMP:20260422T032602Z
URL:https://business.mitchellchamber.com/events/details/corn-palace-relays-mitchell-track-and-field-varsity-invitational-32052
END:VEVENT

END:VCALENDAR
