BEGIN:VCALENDAR
VERSION:2.0
PRODID:-//ChamberMaster//Event Calendar 2.0//EN
METHOD:PUBLISH
X-PUBLISHED-TTL:P3D
REFRESH-INTERVAL:P3D
CALSCALE:GREGORIAN
BEGIN:VEVENT
DTSTART;VALUE=DATE:20240225
DTEND;VALUE=DATE:20240226
TRANSP:TRANSPARENT
X-MICROSOFT-CDO-ALLDAYEVENT:TRUE
SUMMARY:Corn Palace Cheer & Dance Spectacular
DESCRIPTION:Come out and watch performances from both cheer and dance teams!
X-ALT-DESC;FMTTYPE=text/html:Come out and watch performances from both cheer and dance teams!&nbsp\;
LOCATION:The Corn Palace 604 N Main St.
UID:e.1624.35896
SEQUENCE:3
DTSTAMP:20260420T160723Z
URL:https://business.mitchellchamber.com/events/details/corn-palace-cheer-dance-spectacular-35896
END:VEVENT

END:VCALENDAR
