BEGIN:VCALENDAR
VERSION:2.0
PRODID:-//ChamberMaster//Event Calendar 2.0//EN
METHOD:PUBLISH
X-PUBLISHED-TTL:P3D
REFRESH-INTERVAL:P3D
CALSCALE:GREGORIAN
BEGIN:VEVENT
DTSTART:20180713T230000Z
DTEND:20180714T010000Z
X-MICROSOFT-CDO-ALLDAYEVENT:FALSE
SUMMARY:Corks & Cupcakes
DESCRIPTION:Join The Network for Corks & Cupcakes!  An After Hours event featuring wine and cupcake pairings.  Come and enjoy an evening of fun while networking with others!
X-ALT-DESC;FMTTYPE=text/html:Join The Network for Corks &amp\; Cupcakes!&nbsp\; An After Hours event featuring wine and cupcake pairings.&nbsp\; Come and enjoy an evening of fun while networking with others!&nbsp\;<br />\n<br />\n&nbsp\;
LOCATION:Masonic Temple 112 E. 5th Ave Mitchell\, SD 57301
UID:e.1624.15960
SEQUENCE:3
DTSTAMP:20260425T110245Z
URL:https://business.mitchellchamber.com/events/details/corks-cupcakes-15960
END:VEVENT

END:VCALENDAR
