BEGIN:VCALENDAR
VERSION:2.0
PRODID:-//ChamberMaster//Event Calendar 2.0//EN
METHOD:PUBLISH
X-PUBLISHED-TTL:P3D
REFRESH-INTERVAL:P3D
CALSCALE:GREGORIAN
BEGIN:VEVENT
DTSTART:20171117T233000Z
DTEND:20171118T050000Z
X-MICROSOFT-CDO-ALLDAYEVENT:FALSE
SUMMARY:Cool Nights Warm Hearts CASA benefit
DESCRIPTION:Join us at Cool Nights\, Warm Hearts\, an annual dinner\, silent and live auction benefitting CASA kids. This year's event will be greater than ever featuring SONGBLAST\, a dueling guitar duo from Minneapolis. A limited number of tickets & tables remain. Please consider making a big impact in the life of children. Too many children lose their families\, their rights\, and their hope. Partner with CASA to make sure they don't!
X-ALT-DESC;FMTTYPE=text/html:Join us at Cool Nights\, Warm Hearts\, an annual dinner\, silent and live auction benefitting CASA kids. This year&#39\;s event will be greater than ever featuring SONGBLAST\, a dueling guitar duo from Minneapolis. A limited number of tickets &amp\; tables remain. Please consider making a big impact in the life of children. Too many children lose their families\, their rights\, and their hope. Partner with CASA to make sure they don&#39\;t!
LOCATION:Moose Lodge 516 West 15th Avenue Mitchell\, SD
UID:e.1624.9168
SEQUENCE:3
DTSTAMP:20260425T235642Z
URL:https://business.mitchellchamber.com/events/details/cool-nights-warm-hearts-casa-benefit-9168
END:VEVENT

END:VCALENDAR
