BEGIN:VCALENDAR
VERSION:2.0
PRODID:-//ChamberMaster//Event Calendar 2.0//EN
METHOD:PUBLISH
X-PUBLISHED-TTL:P3D
REFRESH-INTERVAL:P3D
CALSCALE:GREGORIAN
BEGIN:VEVENT
DTSTART:20180327T190000Z
DTEND:20180327T210000Z
X-MICROSOFT-CDO-ALLDAYEVENT:FALSE
SUMMARY:Cookies with Kendra Social
DESCRIPTION:Meet Edgewood's new Executive Director\, Kendra Newbold. Cookies and coffee with Kendra at our monthly social.
X-ALT-DESC;FMTTYPE=text/html:Meet Edgewood&#39\;s new Executive Director\, Kendra Newbold. Cookies and coffee with Kendra at our monthly social.
LOCATION:Edgewood Assisted Living 501 E Spruce St Mitchell SD
UID:e.1624.14208
SEQUENCE:3
DTSTAMP:20260425T173306Z
URL:https://business.mitchellchamber.com/events/details/cookies-with-kendra-social-14208
END:VEVENT

END:VCALENDAR
