BEGIN:VCALENDAR
VERSION:2.0
PRODID:-//ChamberMaster//Event Calendar 2.0//EN
METHOD:PUBLISH
X-PUBLISHED-TTL:P3D
REFRESH-INTERVAL:P3D
CALSCALE:GREGORIAN
BEGIN:VEVENT
DTSTART:20181212T000000Z
DTEND:20181212T020000Z
X-MICROSOFT-CDO-ALLDAYEVENT:FALSE
SUMMARY:Cookies with Clauses at Fischer Rounds
DESCRIPTION:Santa and Mrs. Claus will be at Fischer Rounds with free milk and cookies.  Santa wants to hear your wish lists and parents can snam a free keepsake photo.  Remember to bring your camera!
X-ALT-DESC;FMTTYPE=text/html:Santa and Mrs. Claus will be at Fischer Rounds with free milk and cookies.&nbsp\; Santa wants to hear your wish lists and parents can snam a free keepsake photo.&nbsp\; Remember to bring your camera!
LOCATION:Fischer Rounds & Associates 1130 S. Burr St. Mitchell\, SD
UID:e.1624.19723
SEQUENCE:3
DTSTAMP:20260424T201935Z
URL:https://business.mitchellchamber.com/events/details/cookies-with-clauses-at-fischer-rounds-19723
END:VEVENT

END:VCALENDAR
