BEGIN:VCALENDAR
VERSION:2.0
PRODID:-//ChamberMaster//Event Calendar 2.0//EN
METHOD:PUBLISH
X-PUBLISHED-TTL:P3D
REFRESH-INTERVAL:P3D
CALSCALE:GREGORIAN
BEGIN:VEVENT
DTSTART:20140410T133000Z
DTEND:20140410T193000Z
X-MICROSOFT-CDO-ALLDAYEVENT:FALSE
SUMMARY:Conference for Leadership\, Innovation and Social Change
DESCRIPTION:This conference will bring engaging speakers to inspire leadership and innovation for social change in your neighborhoods and around our world. Attendees will have the opportunity to interact with one another and speakers in Dialogue for Action sessions.
X-ALT-DESC;FMTTYPE=text/html:This conference will bring engaging speakers to inspire leadership and innovation for social change in your neighborhoods and around our world. Attendees will have the opportunity to interact with one another and speakers in Dialogue for Action sessions.
LOCATION:DWU Campus - Sherman Center
UID:e.1624.1118
SEQUENCE:3
DTSTAMP:20260419T123734Z
URL:https://business.mitchellchamber.com/events/details/conference-for-leadership-innovation-and-social-change-04-10-2014-1118
END:VEVENT

END:VCALENDAR
