BEGIN:VCALENDAR
VERSION:2.0
PRODID:-//ChamberMaster//Event Calendar 2.0//EN
METHOD:PUBLISH
X-PUBLISHED-TTL:P3D
REFRESH-INTERVAL:P3D
CALSCALE:GREGORIAN
BEGIN:VEVENT
DTSTART:20260616T230000Z
DTEND:20260617T010000Z
X-MICROSOFT-CDO-ALLDAYEVENT:FALSE
SUMMARY:Community Literacy Night at the Corn Palace Plaza
DESCRIPTION:Join us for a special community event in partnership with the South Dakota Literacy Conference as it comes to Mitchell! On June 16 from 6 8 p.m.\, head to the Corn Palace Plaza for an inspiring evening featuring Malcolm Mitchell author\, literacy advocate\, and former NFL player.\n\nMalcolm will share his story and passion for literacy\, followed by a book signing. The evening will also feature live music from the Mitchell Children's Choir.\n\nThere will also be local food trucks\, including Andy's Eats\, Mya's Teriyaki\, and Matilda's by Michelle's Mad Batter.\n\nThis free event is open to the public\, and attendees of the South Dakota Literacy Conference will also be joining us making it a great opportunity to connect\, learn\, and celebrate literacy together.
X-ALT-DESC;FMTTYPE=text/html:<p data-end="372" data-start="70">Join us for a special community event in partnership with the South Dakota Literacy Conference as it comes to Mitchell! On June 16 from 6&ndash\;8 p.m.\, head to the Corn Palace Plaza for an inspiring evening featuring Malcolm Mitchell&mdash\;author\, literacy advocate\, and former NFL player.</p>\n\n<p data-end="593" data-start="374">Malcolm will share his story and passion for literacy\, followed by a book signing. The evening will also feature live music from the Mitchell Children&rsquo\;s Choir.</p>\n\n<p data-end="739" data-start="595">There will also be local food trucks\, including Andy&rsquo\;s Eats\, Mya&rsquo\;s Teriyaki\, and Matilda&rsquo\;s by Michelle&rsquo\;s Mad Batter.</p>\n\n<p data-end="939" data-is-last-node="" data-is-only-node="" data-start="741">This free event is open to the public\, and attendees of the South Dakota Literacy Conference will also be joining us&mdash\;making it a great opportunity to connect\, learn\, and celebrate literacy together.</p>\n
LOCATION:Corn Palace Plaza 604 N Main St Mitchell\, SD 57301
UID:e.1624.42887
SEQUENCE:3
DTSTAMP:20260421T173804Z
URL:https://business.mitchellchamber.com/events/details/community-literacy-night-at-the-corn-palace-plaza-42887
END:VEVENT

END:VCALENDAR
