BEGIN:VCALENDAR
VERSION:2.0
PRODID:-//ChamberMaster//Event Calendar 2.0//EN
METHOD:PUBLISH
X-PUBLISHED-TTL:P3D
REFRESH-INTERVAL:P3D
CALSCALE:GREGORIAN
BEGIN:VEVENT
DTSTART:20240410T170000Z
DTEND:20240410T180000Z
X-MICROSOFT-CDO-ALLDAYEVENT:FALSE
SUMMARY:Community Homelessness Awareness Luncheon
DESCRIPTION:Community Homelessness Awareness Luncheon\n\nApril 10 at 12 p.m.\n\nCongregational UCC\n\n301 E 4th Ave\n\n\n\nFree will donation for soup and bread bowls.
X-ALT-DESC;FMTTYPE=text/html:<p>Community Homelessness Awareness Luncheon<br />\nApril 10 at 12 p.m.<br />\nCongregational UCC<br />\n301 E 4th Ave<br />\n<br />\nFree will donation for soup and bread bowls.</p>\n
LOCATION:Congregational UCC 301 E 4th Ave Mitchell\, SD 57301
UID:e.1624.36242
SEQUENCE:3
DTSTAMP:20260420T094801Z
URL:https://business.mitchellchamber.com/events/details/community-homelessness-awareness-luncheon-36242
END:VEVENT

END:VCALENDAR
