BEGIN:VCALENDAR
VERSION:2.0
PRODID:-//ChamberMaster//Event Calendar 2.0//EN
METHOD:PUBLISH
X-PUBLISHED-TTL:P3D
REFRESH-INTERVAL:P3D
CALSCALE:GREGORIAN
BEGIN:VEVENT
DTSTART:20180517T230000Z
DTEND:20180518T010000Z
X-MICROSOFT-CDO-ALLDAYEVENT:FALSE
SUMMARY:Community Awareness Events at Mitchell Area Safehouse
DESCRIPTION:Learn more about sexual assault\, child abuse\, human trafficking\, domestic violence\, and teen dating from trained advocates. You will also be offered tours of the shelter and refreshments.
X-ALT-DESC;FMTTYPE=text/html:<span class="_4n-j _3cht fsl" data-testid="event-permalink-details">Learn more about sexual assault\, child abuse\, human trafficking\, domestic violence\, and teen dating from trained advocates. You will also be offered tours of the shelter and refreshments.</span>
LOCATION:Mitchell Area Safehouse 1809 N Wisconsin St. Mitchell\, SD
UID:e.1624.12706
SEQUENCE:3
DTSTAMP:20260425T143835Z
URL:https://business.mitchellchamber.com/events/details/community-awareness-events-at-mitchell-area-safehouse-12706
END:VEVENT

END:VCALENDAR
