BEGIN:VCALENDAR
VERSION:2.0
PRODID:-//ChamberMaster//Event Calendar 2.0//EN
METHOD:PUBLISH
X-PUBLISHED-TTL:P3D
REFRESH-INTERVAL:P3D
CALSCALE:GREGORIAN
BEGIN:VEVENT
DTSTART:20140204T180000Z
DTEND:20140204T190000Z
X-MICROSOFT-CDO-ALLDAYEVENT:FALSE
SUMMARY:Committee Member Training
DESCRIPTION:A training for all Chamber Committee members will be held on Tuesday\, February 4th at First Dakota Bank.  All committee members will participate in the training from 12-1 with committee chairs to continue with additional training through 1:30.\n\n\n\nCarmen Schramm\, Executive Director at Yankton Chamber of Commerce will be providing the training.  Lunch will be provided.
X-ALT-DESC;FMTTYPE=text/html:A training for all Chamber Committee members will be held on Tuesday\, February 4th at First Dakota Bank.&nbsp\; All committee members will participate in the training from 12-1 with committee chairs to continue with additional training through 1:30.<br />\n<br />\nCarmen Schramm\, Executive Director at Yankton Chamber of Commerce will be providing the training.&nbsp\; Lunch will be provided.
LOCATION:First Dakota Bank lower level meeting space. Please park on the street.
UID:e.1624.1097
SEQUENCE:3
DTSTAMP:20260421T234744Z
URL:https://business.mitchellchamber.com/events/details/committee-member-training-02-04-2014-1097
END:VEVENT

END:VCALENDAR
