BEGIN:VCALENDAR
VERSION:2.0
PRODID:-//ChamberMaster//Event Calendar 2.0//EN
METHOD:PUBLISH
X-PUBLISHED-TTL:P3D
REFRESH-INTERVAL:P3D
CALSCALE:GREGORIAN
BEGIN:VEVENT
DTSTART:20190906T233000Z
DTEND:20190907T000000Z
X-MICROSOFT-CDO-ALLDAYEVENT:FALSE
SUMMARY:Coborns watermelon eating contest
DESCRIPTION:Eat watermelon as fast as you can in only 3 min!
X-ALT-DESC;FMTTYPE=text/html:<span style="color: rgb(29\, 33\, 41)\; text-transform: none\; text-indent: 0px\; letter-spacing: normal\; font-family: Helvetica\, Arial\, sans-serif\; font-size: 14px\; font-style: normal\; font-weight: 400\; word-spacing: 0px\; float: none\; display: inline !important\; white-space: pre-wrap\; orphans: 2\; widows: 2\; background-color: rgb(255\, 255\, 255)\; font-variant-ligatures: normal\; font-variant-caps: normal\; -webkit-text-stroke-width: 0px\; text-decoration-style: initial\; text-decoration-color: initial\;">Eat watermelon as fast as you can in only 3 min! </span>
LOCATION:Mitchell Main Street
UID:e.1624.26093
SEQUENCE:3
DTSTAMP:20260423T032700Z
URL:https://business.mitchellchamber.com/events/details/coborns-watermelon-eating-contest-26093
END:VEVENT

END:VCALENDAR
