BEGIN:VCALENDAR
VERSION:2.0
PRODID:-//ChamberMaster//Event Calendar 2.0//EN
METHOD:PUBLISH
X-PUBLISHED-TTL:P3D
REFRESH-INTERVAL:P3D
CALSCALE:GREGORIAN
BEGIN:VEVENT
DTSTART:20180211T000000Z
DTEND:20180211T020000Z
X-MICROSOFT-CDO-ALLDAYEVENT:FALSE
SUMMARY:Coborn's Love\, Food & Wine
DESCRIPTION:Coborns Love\, food\, and wine event is the first entry in our Coborns Experience 2018 series.\n\nWe've got a great menu including Wedge Salad\, Bacon Wrapped Chicken\, Burgundy Steak\, Rice Pilaf\, Almond Bacon Green Beans\, Stuffed Mushrooms\, Meat and Cheese Samples\, and Tiramisu. Wine to sample and photos for a night to remember. Door prizes and other surprises.
X-ALT-DESC;FMTTYPE=text/html:<span class="_4n-j _3cht fsl" data-testid="event-permalink-details">Coborns Love\, food\, and wine event is the first entry in our Coborns Experience 2018 series.<br />\nWe&#39\;ve got a great menu including Wedge Salad\, Bacon Wrapped Chicken\, Burgundy Steak\, Rice Pilaf\, Almond Bacon Green Beans\, Stuffed Mushrooms\, Meat and Cheese Samples\, and Tiramisu. Wine to sample and photos for a night to remember. Door prizes and other surprises. </span>
LOCATION:Coborn's Superstore 1800 N Main St Mitchell\, SD
UID:e.1624.11493
SEQUENCE:3
DTSTAMP:20260425T185722Z
URL:https://business.mitchellchamber.com/events/details/coborn-s-love-food-wine-11493
END:VEVENT

END:VCALENDAR
