BEGIN:VCALENDAR
VERSION:2.0
PRODID:-//ChamberMaster//Event Calendar 2.0//EN
METHOD:PUBLISH
X-PUBLISHED-TTL:P3D
REFRESH-INTERVAL:P3D
CALSCALE:GREGORIAN
BEGIN:VEVENT
DTSTART:20240509T140000Z
DTEND:20240509T210000Z
X-MICROSOFT-CDO-ALLDAYEVENT:FALSE
SUMMARY:CO.STARTERS Bootcamp Day 1
DESCRIPTION:Calling all aspiring entrepreneurs in Mitchell\, SD!  \n\n\n\n  Mark your calendars for May 9 & 10\, 2024! The Mitchell Area Chamber of Commerce is thrilled to announce the CO. STARTERS Bootcamp\, powered by Dakota Resources\, Startup Sioux Falls\, and the Small Business Administration.  \n\n\n\nReady to turn your business idea into reality? Join us for an intensive two-day bootcamp packed with hands-on learning\, peer collaboration\, and concrete tools to kickstart your venture. Whether you're in the early stages or looking to shift your strategy\, CO. STARTERS Bootcamp is your launchpad to success!  \n\n\n\n  Discover\n\n  Promote\n\n  Build\n\n  Launch\n\n\n\nBest of all\, this training is FREE\, thanks to the Small Business Administration! But hurry\, enrollment ends on May 3\, 2024. Secure your spot now: https://docs.google.com/forms/d/e/1FAIpQLSc-NoNn2bwO9TjhI_kLhcVmKisfZiWzH9cKEyDhOXW9E6bRbA/viewform. Be sure to choose Mitchell as your preferred location!\n\n\n\nDon't miss this opportunity to network\, learn\, and grow with fellow entrepreneurs! For more details\, visit https://www.mitchellchamber.com/accelerate-mitchell. Let's accelerate your business together!
X-ALT-DESC;FMTTYPE=text/html:&#128640\; Calling all aspiring entrepreneurs in Mitchell\, SD! &#128640\;<br />\n<br />\n&#128197\; Mark your calendars for May 9 &amp\; 10\, 2024! The Mitchell Area Chamber of Commerce is thrilled to announce the CO. STARTERS Bootcamp\, powered by Dakota Resources\, Startup Sioux Falls\, and the Small Business Administration. &#128188\;<br />\n<br />\nReady to turn your business idea into reality? Join us for an intensive two-day bootcamp packed with hands-on learning\, peer collaboration\, and concrete tools to kickstart your venture. Whether you&#39\;re in the early stages or looking to shift your strategy\, CO. STARTERS Bootcamp is your launchpad to success! &#128640\;<br />\n<br />\n&#128269\; Discover<br />\n&#128226\; Promote<br />\n&#128296\; Build<br />\n&#128640\; Launch<br />\n<br />\nBest of all\, this training is FREE\, thanks to the Small Business Administration! But hurry\, enrollment ends on May 3\, 2024. Secure your spot now: <a href="https://docs.google.com/forms/d/e/1FAIpQLSc-NoNn2bwO9TjhI_kLhcVmKisfZiWzH9cKEyDhOXW9E6bRbA/viewform" target="_blank">https://docs.google.com/forms/d/e/1FAIpQLSc-NoNn2bwO9TjhI_kLhcVmKisfZiWzH9cKEyDhOXW9E6bRbA/viewform</a>.&nbsp\;Be sure to choose Mitchell as your preferred location!<br />\n<br />\nDon&#39\;t miss this opportunity to network\, learn\, and grow with fellow entrepreneurs! For more details\, visit <a href="https://www.mitchellchamber.com/accelerate-mitchell" target="_blank">https://www.mitchellchamber.com/accelerate-mitchell</a>. Let&#39\;s accelerate your business together! &#128170\;&nbsp\;<br />\n&nbsp\;
LOCATION:Chamber of Commerce Office 601 N Main St Mitchell\, SD 57301
UID:e.1624.36193
SEQUENCE:3
DTSTAMP:20260420T065214Z
URL:https://business.mitchellchamber.com/events/details/co-starters-bootcamp-day-1-36193
END:VEVENT

END:VCALENDAR
