BEGIN:VCALENDAR
VERSION:2.0
PRODID:-//ChamberMaster//Event Calendar 2.0//EN
METHOD:PUBLISH
X-PUBLISHED-TTL:P3D
REFRESH-INTERVAL:P3D
CALSCALE:GREGORIAN
BEGIN:VEVENT
DTSTART:20220611T003000Z
DTEND:20220611T023000Z
X-MICROSOFT-CDO-ALLDAYEVENT:FALSE
SUMMARY:Cinderella
DESCRIPTION:Inspired by the acclaimed 1997 teleplay starring Brandy and Whitney Houston\, this version of the magical fairy tale is reborn with the Rodgers & Hammerstein hallmarks of originality\, charm and elegance.
X-ALT-DESC;FMTTYPE=text/html:Inspired by the acclaimed 1997 teleplay starring Brandy and Whitney Houston\, this version of the magical fairy tale is reborn with the Rodgers &amp\; Hammerstein hallmarks of originality\, charm and elegance.&nbsp\;
LOCATION:Pepsi Cola Theatre 700 N. Main St. Mitchell\, South Dakota
UID:e.1624.31684
SEQUENCE:3
DTSTAMP:20260421T142718Z
URL:https://business.mitchellchamber.com/events/details/cinderella-31684
END:VEVENT

END:VCALENDAR
