BEGIN:VCALENDAR
VERSION:2.0
PRODID:-//ChamberMaster//Event Calendar 2.0//EN
METHOD:PUBLISH
X-PUBLISHED-TTL:P3D
REFRESH-INTERVAL:P3D
CALSCALE:GREGORIAN
BEGIN:VEVENT
DTSTART:20180711T000000Z
DTEND:20180711T020000Z
X-MICROSOFT-CDO-ALLDAYEVENT:FALSE
SUMMARY:Christmas in July!
DESCRIPTION:Join us to create/make your own Christmas craft and enjoy a glass of wine with friends at the same time!
X-ALT-DESC;FMTTYPE=text/html:Join us to create/make your own Christmas craft and enjoy a glass of wine with friends at the same time!
LOCATION:Edgewood Assisted Living 501 E Spruce Street Mitchell SD
UID:e.1624.15647
SEQUENCE:3
DTSTAMP:20260425T110521Z
URL:https://business.mitchellchamber.com/events/details/christmas-in-july-15647
END:VEVENT

END:VCALENDAR
