BEGIN:VCALENDAR
VERSION:2.0
PRODID:-//ChamberMaster//Event Calendar 2.0//EN
METHOD:PUBLISH
X-PUBLISHED-TTL:P3D
REFRESH-INTERVAL:P3D
CALSCALE:GREGORIAN
BEGIN:VEVENT
DTSTART:20181204T220000Z
DTEND:20181205T004500Z
X-MICROSOFT-CDO-ALLDAYEVENT:FALSE
SUMMARY:Christmas at the Palace
DESCRIPTION:We will be making chili and the kids can visit Santa!! http://cornpalace.com/calendar.aspx?EID=246
X-ALT-DESC;FMTTYPE=text/html:We will be making chili and the kids can visit Santa!! http://cornpalace.com/calendar.aspx?EID=246
LOCATION:The World's Only Corn Palace - 604 N Main St Mitchell SD 57301
UID:e.1624.20291
SEQUENCE:3
DTSTAMP:20260424T201854Z
URL:https://business.mitchellchamber.com/events/details/christmas-at-the-palace-12-04-2018-20291
END:VEVENT

END:VCALENDAR
