BEGIN:VCALENDAR
VERSION:2.0
PRODID:-//ChamberMaster//Event Calendar 2.0//EN
METHOD:PUBLISH
X-PUBLISHED-TTL:P3D
REFRESH-INTERVAL:P3D
CALSCALE:GREGORIAN
BEGIN:VEVENT
DTSTART:20171215T003000Z
DTEND:20171215T020000Z
X-MICROSOFT-CDO-ALLDAYEVENT:FALSE
SUMMARY:Christmas at the Carnegie
DESCRIPTION:"Christmas at the Carnegie" will be celebrated with carols sung by the Mitchell Barbershop Harmony Chorus. Wanema Wieczorek\, a fine pianist\, will add her inimitable style to the evening. Join us to generate your Christmas spirit with holiday goodies and spiced cider in our festively decorated 1903 Carnegie Library.
X-ALT-DESC;FMTTYPE=text/html:&ldquo\;Christmas at the Carnegie&rdquo\; will be celebrated with carols sung by the Mitchell Barbershop Harmony Chorus. Wanema Wieczorek\, a fine pianist\, will add her inimitable style to the evening. Join us to generate your Christmas spirit with holiday goodies and spiced cider in our festively decorated 1903 Carnegie Library.
LOCATION:Carnegie Resource Center
UID:e.1624.9173
SEQUENCE:3
DTSTAMP:20260425T221243Z
URL:https://business.mitchellchamber.com/events/details/christmas-at-the-carnegie-9173
END:VEVENT

END:VCALENDAR
