BEGIN:VCALENDAR
VERSION:2.0
PRODID:-//ChamberMaster//Event Calendar 2.0//EN
METHOD:PUBLISH
X-PUBLISHED-TTL:P3D
REFRESH-INTERVAL:P3D
CALSCALE:GREGORIAN
BEGIN:VEVENT
DTSTART:20180608T150000Z
DTEND:20180608T170000Z
X-MICROSOFT-CDO-ALLDAYEVENT:FALSE
SUMMARY:Children’s Movie Series at Logan Luxury Theatre
DESCRIPTION:Our Children's Series is back! We are running Children's Movie Series every Friday and Saturday at 10 a.m. for 8 consecutive weeks this summer! Tickets are $10 for the 8 weeks of movies.
X-ALT-DESC;FMTTYPE=text/html:<span aria-live="polite" data-ft="{&quot\;tn&quot\;:&quot\;K&quot\;}" id="fbPhotoSnowliftCaption" style="outline:none\;display:inline\;width:auto\;" tabindex="0"><span style="background-color:#ffffff\;"><span style="color:#1d2129\;"><span style="font-family:helvetica\,arial\,sans-serif\;"><span style="font-size:14px\;"><span style="font-family:inherit\;">Our Children&#39\;s Series is back! We are running Children&rsquo\;s Movie Series every Friday and Saturday at 10 a.m. for 8 consecutive weeks this summer! Tickets are $10 for the 8 weeks of movies.</span></span></span></span></span></span>\n<div>&nbsp\;</div>\n
LOCATION:Logan Luxury 5 Cinema\, 209 N Lawler St Mitchell\, South Dakota
UID:e.1624.15505
SEQUENCE:3
DTSTAMP:20260425T144641Z
URL:https://business.mitchellchamber.com/events/details/children-s-movie-series-at-logan-luxury-theatre-06-08-2018-15505
END:VEVENT

END:VCALENDAR
