BEGIN:VCALENDAR
VERSION:2.0
PRODID:-//ChamberMaster//Event Calendar 2.0//EN
METHOD:PUBLISH
X-PUBLISHED-TTL:P3D
REFRESH-INTERVAL:P3D
CALSCALE:GREGORIAN
BEGIN:VEVENT
DTSTART;VALUE=DATE:20240720
DTEND;VALUE=DATE:20240721
TRANSP:TRANSPARENT
X-MICROSOFT-CDO-ALLDAYEVENT:TRUE
SUMMARY:Children's Day at the Village
DESCRIPTION:Our newest event is just for children! A day filled with storytellers\, dancers\, drummers\, singers\, face painters\, and so much more! More information to come.
X-ALT-DESC;FMTTYPE=text/html:Our newest event is just for children! A day filled with storytellers\, dancers\, drummers\, singers\, face painters\, and so much more! More information to come.&nbsp\;
LOCATION:Mitchell Prehistoric Indian Village 3200 Indian Village Rd. Mitchell\, SD 57301
UID:e.1624.36225
SEQUENCE:3
DTSTAMP:20260420T084140Z
URL:https://business.mitchellchamber.com/events/details/children-s-day-at-the-village-36225
END:VEVENT

END:VCALENDAR
