BEGIN:VCALENDAR
VERSION:2.0
PRODID:-//ChamberMaster//Event Calendar 2.0//EN
METHOD:PUBLISH
X-PUBLISHED-TTL:P3D
REFRESH-INTERVAL:P3D
CALSCALE:GREGORIAN
BEGIN:VEVENT
DTSTART:20230616T160000Z
DTEND:20230616T180000Z
X-MICROSOFT-CDO-ALLDAYEVENT:FALSE
SUMMARY:Cherrybees 25 Year Anniversary Celebration
DESCRIPTION:Join Dick & Betty at Cherrybees Floral & Gifts as they celebrate 25 years of business\n\nin Mitchell!\n\nFRIDAY\, JUNE 16th\n\n11:00 a.m. to 1:00 p.m.\n\n603 N. Main in the Palace Park Mall\n\n(Directly across from the Corn Palace)\n\nWe're having a FREE summer grill out to thank YOU - our customers who made this all possible. Visit our new location and enjoy a hamburger or hotdog\, chips and refreshments. The first 50 people in the store will receive a wrapped rose bouquet. \n\nCome help us celebrate!
X-ALT-DESC;FMTTYPE=text/html:<p class="_04xlpA direction-ltr align-center para-style-body" style="color: rgb(67\, 56\, 49)\; font-family: &quot\;YADrv8McqlY 0&quot\;\, _fb_\, auto\; --font-size: 23.9998px\; --line-height: 1.46\; line-height: 35px\;"><span class="WdYUQQ text-decoration-none text-strikethrough-none">Join Dick &amp\; Betty at Cherrybees Floral &amp\; Gifts&nbsp\;</span>as they celebrate 25 years of business<br />\nin Mitchell!</p>\n\n<p class="_04xlpA direction-ltr align-center para-style-body" style="color: rgb(67\, 56\, 49)\; font-family: &quot\;YADrv8McqlY 0&quot\;\, _fb_\, auto\; --font-size: 23.9998px\; --line-height: 1.46\; line-height: 35px\;"><span class="WdYUQQ text-decoration-none text-strikethrough-none" style="font-weight: 700\;">FRIDAY\, JUNE 16th</span><br />\n<span style="font-weight: 700\;">11:00 a.m. to 1:00 p.m.</span><br />\n<span class="WdYUQQ text-decoration-none text-strikethrough-none" style="font-weight: 700\;">603 N. Main in the Palace Park Mall<br />\n(Directly across from the Corn Palace)</span><br />\n<span class="WdYUQQ text-decoration-none text-strikethrough-none">We&#39\;re having a FREE summer grill out to thank YOU - our customers who made this all possible.<span class="WdYUQQ text-decoration-none text-strikethrough-none white-space-prewrap"> </span>Visit our new location and enjoy a hamburger or hotdog\, chips and refreshments.<span class="WdYUQQ text-decoration-none text-strikethrough-none white-space-prewrap"> </span>The first 50 people in the store will receive a wrapped rose bouquet.<span class="WdYUQQ text-decoration-none text-strikethrough-none white-space-prewrap"> </span><br />\nCome help us celebrate!</span></p>\n
LOCATION:603 N. Main - Palace Park Mall - Directly across the street from the Corn Palace
UID:e.1624.34355
SEQUENCE:3
DTSTAMP:20260421T072304Z
URL:https://business.mitchellchamber.com/events/details/cherrybees-25-year-anniversary-celebration-34355
END:VEVENT

END:VCALENDAR
