BEGIN:VCALENDAR
VERSION:2.0
PRODID:-//ChamberMaster//Event Calendar 2.0//EN
METHOD:PUBLISH
X-PUBLISHED-TTL:P3D
REFRESH-INTERVAL:P3D
CALSCALE:GREGORIAN
BEGIN:VEVENT
DTSTART:20140201T140000Z
DTEND:20140201T190000Z
X-MICROSOFT-CDO-ALLDAYEVENT:FALSE
SUMMARY:Chamber Health & Wellness Fair
DESCRIPTION:The Mitchell Area Chamber of Commerce Health Services Committee invites you to participate in the 21st Annual Chamber Health and Wellness Fair on Saturday\, February 1\, 2014\, 8:00   1:00 pm at Mitchell Christian School. This year's focus is family health\, wellness and nutrition.\n\n\n\nThe committee is working on activities and entertainment that will be held throughout the day.
X-ALT-DESC;FMTTYPE=text/html:The Mitchell Area Chamber of Commerce Health Services Committee invites you to participate in the 21st Annual Chamber Health and Wellness Fair on Saturday\, February 1\, 2014\, 8:00 &ndash\; 1:00 pm at Mitchell Christian School. This year&rsquo\;s focus is family health\, wellness and nutrition.<br />\n<br />\nThe committee is working on activities and entertainment that will be held throughout the day.
LOCATION:
UID:e.1624.999
SEQUENCE:3
DTSTAMP:20260421T235313Z
URL:https://business.mitchellchamber.com/events/details/chamber-health-wellness-fair-02-01-2014-999
END:VEVENT

END:VCALENDAR
